BEGIN:VCALENDAR
VERSION:2.0
PRODID:-//InvisionCommunity Events 4.7.23//EN
METHOD:PUBLISH
CALSCALE:GREGORIAN
REFRESH-INTERVAL:PT15M
X-PUBLISHED-TTL:PT15M
X-WR-CALNAME:American Sign Language Calendar
NAME:American Sign Language Calendar
BEGIN:VTIMEZONE
TZID:Europe/London
TZURL:http://tzurl.org/zoneinfo/Europe/London
X-LIC-LOCATION:Europe/London
BEGIN:DAYLIGHT
TZOFFSETFROM:+0000
TZOFFSETTO:+0100
TZNAME:BST
DTSTART:20200329T020000Z
RRULE:FREQ=YEARLY;BYMONTH=3;BYDAY=-1SU
END:DAYLIGHT
BEGIN:STANDARD
TZOFFSETFROM:+0100
TZOFFSETTO:+0000
TZNAME:GMT
DTSTART:20201025T020000Z
RRULE:FREQ=YEARLY;BYMONTH=10;BYDAY=-1SU
END:STANDARD
END:VTIMEZONE
BEGIN:VEVENT
SUMMARY:Teens ASL Zoom Meet! (All levels welcome)
DTSTAMP:20201112T193254Z
SEQUENCE:0
UID:14-2-9e60713972d74d0f13ddc97569d0ea4f@www.signlanguageforum.com
ORGANIZER;CN="Kai":hello@signlanguageforum.com
DESCRIPTION:\n	Hello!! I will be hosting a zoom meeting for teens. In th
	is videochat\, we can all just chat and have a good time - and maybe even 
	teach each other a thing or two! \n\n\n	You may use english or ASL\, but 
	for either one you use - be prepared to type CC/translations in the chat 
	for those who are Deaf\, HOH - or not fluent in ASL. \n\n\n	If you are in
	terested please DM me on zoom\, feel free to add me as a contact! (kaipen
	pals@gmail.com) \n\n\n	If you want to join the videochat\, you must be a 
	teenager. Anyone 18+ or -13 will be removed from the call. Please respect 
	this\, and do not join unless you are a teenager. This is for everyones co
	mfort and safety! (I'm 14\; turning 15 soon)\n\n\n	This videochat will be 
	monitored by my mother\, although she will most likely be offscreen she wi
	ll still be able to hear and see us. \n\n\n	I look forward to chatting wi
	th you!! \n
DTSTART:20201112T230000Z
END:VEVENT
END:VCALENDAR
