BEGIN:VCALENDAR
VERSION:2.0
PRODID:-//InvisionCommunity Events 4.7.23//EN
METHOD:PUBLISH
CALSCALE:GREGORIAN
REFRESH-INTERVAL:PT15M
X-PUBLISHED-TTL:PT15M
X-WR-CALNAME:American Sign Language Calendar
NAME:American Sign Language Calendar
BEGIN:VTIMEZONE
TZID:Europe/London
TZURL:http://tzurl.org/zoneinfo/Europe/London
X-LIC-LOCATION:Europe/London
BEGIN:DAYLIGHT
TZOFFSETFROM:+0000
TZOFFSETTO:+0100
TZNAME:BST
DTSTART:20200329T020000Z
RRULE:FREQ=YEARLY;BYMONTH=3;BYDAY=-1SU
END:DAYLIGHT
BEGIN:STANDARD
TZOFFSETFROM:+0100
TZOFFSETTO:+0000
TZNAME:GMT
DTSTART:20201025T020000Z
RRULE:FREQ=YEARLY;BYMONTH=10;BYDAY=-1SU
END:STANDARD
END:VTIMEZONE
BEGIN:VEVENT
SUMMARY:Zoom thanksgiving scavenger hunt
DTSTAMP:20201118T193317Z
SEQUENCE:0
UID:15-2-9e60713972d74d0f13ddc97569d0ea4f@www.signlanguageforum.com
ORGANIZER;CN="Madipatter":hello@signlanguageforum.com
DESCRIPTION:\n\n	ANY level of ASL learners are welcome! Join a fun voice
	less scavenger hunt on zoom today!\n\n\n\n	Zoom details below:\n\n\n\n	Top
	ic: GOHS ASLHS event\n\n\n\n	Time: Nov 18\, 2020 02:30 PM Pacific Time (US
	 and Canada)\n\n\n\n	 \n\n\n\n	Join Zoom Meeting\n\n\n\n	https://tvusd-us
	.zoom.us/j/89343027421?pwd=RGpkSDNNSUc5dHN6SXpwcjNEVk82Zz09\n\n\n\n	 \n\n
	\n\n	Meeting ID: 893 4302 7421\n\n\n\n	Passcode: 080902\n\n\n\n	 \n\n\n\n
		\n\n
DTSTART:20201118T103000Z
DTEND:20201118T233000Z
END:VEVENT
END:VCALENDAR
