BEGIN:VCALENDAR
VERSION:2.0
PRODID:-//InvisionCommunity Events 4.7.23//EN
METHOD:PUBLISH
CALSCALE:GREGORIAN
REFRESH-INTERVAL:PT15M
X-PUBLISHED-TTL:PT15M
X-WR-CALNAME:American Sign Language Calendar
NAME:American Sign Language Calendar
BEGIN:VTIMEZONE
TZID:Europe/London
TZURL:http://tzurl.org/zoneinfo/Europe/London
X-LIC-LOCATION:Europe/London
BEGIN:DAYLIGHT
TZOFFSETFROM:+0000
TZOFFSETTO:+0100
TZNAME:BST
DTSTART:20200329T020000Z
RRULE:FREQ=YEARLY;BYMONTH=3;BYDAY=-1SU
END:DAYLIGHT
BEGIN:STANDARD
TZOFFSETFROM:+0100
TZOFFSETTO:+0000
TZNAME:GMT
DTSTART:20201025T020000Z
RRULE:FREQ=YEARLY;BYMONTH=10;BYDAY=-1SU
END:STANDARD
END:VTIMEZONE
BEGIN:VEVENT
SUMMARY:Zoom practice call
DTSTAMP:20201119T165004Z
SEQUENCE:0
UID:16-2-9e60713972d74d0f13ddc97569d0ea4f@www.signlanguageforum.com
ORGANIZER;CN="Madipatter":hello@signlanguageforum.com
DESCRIPTION:\n\n	A zoom call where we can get a bunch of people to hang 
	out and sign and make new friends! All levels are welcome!\n\n\n\n	zoom st
	arts at 5 pm... I’ll edit this announcement with the zoom code and hour 
	before the event on that day\n\n\n\n	please comment any questions or comme
	nts if you’re interested!\n\n
DTSTART:20201122T010000Z
END:VEVENT
END:VCALENDAR
