BEGIN:VCALENDAR
VERSION:2.0
PRODID:-//InvisionCommunity Events 4.7.23//EN
METHOD:PUBLISH
CALSCALE:GREGORIAN
REFRESH-INTERVAL:PT15M
X-PUBLISHED-TTL:PT15M
X-WR-CALNAME:British Sign Language Calendar
NAME:British Sign Language Calendar
BEGIN:VTIMEZONE
TZID:Europe/London
TZURL:http://tzurl.org/zoneinfo/Europe/London
X-LIC-LOCATION:Europe/London
BEGIN:DAYLIGHT
TZOFFSETFROM:+0000
TZOFFSETTO:+0100
TZNAME:BST
DTSTART:20180325T020000Z
RRULE:FREQ=YEARLY;BYMONTH=3;BYDAY=-1SU
END:DAYLIGHT
BEGIN:STANDARD
TZOFFSETFROM:+0100
TZOFFSETTO:+0000
TZNAME:GMT
DTSTART:20181028T020000Z
RRULE:FREQ=YEARLY;BYMONTH=10;BYDAY=-1SU
END:STANDARD
END:VTIMEZONE
BEGIN:VEVENT
SUMMARY:FREE tickets to a BSL interpreted performance at the Royal A
	cademy of Dramatic Art
DTSTAMP:20180702T153625Z
SEQUENCE:0
UID:14-2-9094ca72c6411a1c90a0f1ce84a01a67@www.signlanguageforum.com
ORGANIZER;CN="Natalia Rossetti":hello@signlanguageforum.com
DESCRIPTION:\n\n	Email Natalia.k.rossetti@gmail.com to claim your FREE t
	icket to this exclusive performance!! Only 30 tickets available  \n\n\n\n
		https://www.rada.ac.uk/whats-on/always-right-there/\n\n
DTSTART:20180705T151500Z
DTEND:20180705T164500Z
END:VEVENT
END:VCALENDAR
