BEGIN:VCALENDAR
VERSION:2.0
PRODID:-//InvisionCommunity Events 4.7.23//EN
METHOD:PUBLISH
CALSCALE:GREGORIAN
REFRESH-INTERVAL:PT15M
X-PUBLISHED-TTL:PT15M
X-WR-CALNAME:British Sign Language Calendar
NAME:British Sign Language Calendar
BEGIN:VTIMEZONE
TZID:Europe/London
TZURL:http://tzurl.org/zoneinfo/Europe/London
X-LIC-LOCATION:Europe/London
BEGIN:DAYLIGHT
TZOFFSETFROM:+0000
TZOFFSETTO:+0100
TZNAME:BST
DTSTART:20180325T020000Z
RRULE:FREQ=YEARLY;BYMONTH=3;BYDAY=-1SU
END:DAYLIGHT
BEGIN:STANDARD
TZOFFSETFROM:+0100
TZOFFSETTO:+0000
TZNAME:GMT
DTSTART:20181028T020000Z
RRULE:FREQ=YEARLY;BYMONTH=10;BYDAY=-1SU
END:STANDARD
END:VTIMEZONE
BEGIN:VEVENT
SUMMARY:Introduction to British Sign Language
DTSTAMP:20181023T144400Z
SEQUENCE:0
UID:19-2-9094ca72c6411a1c90a0f1ce84a01a67@www.signlanguageforum.com
ORGANIZER;CN="Shazzz":hello@signlanguageforum.com
DESCRIPTION:\n	\n\n\n	Every Monday from\n\n	29 Oct 2018 - 17 Dec 2018\n\
	n	6:30pm - 8:30pm\n\n\n\n	St. Margaret’s House\, Bethnal Green\n\n	The C
	abin (behind the Gallery Café)\n\n	21 Old Ford Rd\, London E2 9PL\n\n\n\n
		Interested in learning British Sign Language (BSL)? Want to improve your 
	communication with deaf people? Join our evening course!\n\n\n\n	In collab
	oration with Sign for All\, The Film Bunch are offering an Introduction to
	 British Sign Language course\, which is suitable for complete beginners w
	ho have a general interest in BSL and want to improve their communication 
	skills with deaf people. No prior knowledge of BSL is needed.\n\n\n\n	This
	 is a non-accredited course where you will learn basic BSL including finge
	rspelling alphabet\, numbers\, grammar\, everyday vocabulary and conversat
	ion such as greetings\, asking for directions\, emotions\, family and more
	. \n\n\n\n	The course will run for 8 weeks in Bethnal Green. Each lesson 
	will last for 2 hours with a short break. Students will participate in gro
	up work and activities\, meet deaf guest speakers and be given optional ho
	mework tasks. Students will get free tickets to our film screening in Nove
	mber and Christmas party in December.\n\n\n\n	By the end of the course\, y
	ou will have an understanding of BSL and deaf culture and be able to inter
	act in basic conversation with deaf people.\n\n\n\n	The course is also an 
	ideal introduction to the language for those who may be thinking about stu
	dying for a Level 1 qualification in BSL. Please note this is a course for
	 adults so not suitable for under 18s.\n\n\n\n	If you have any questions\,
	 please email us at info@thefilmbunch.com.\n\n\n\n	Grab your early bird ti
	ckets now! We offer a 10% concession discount. This applies to senior citi
	zens (55 and over)\, students\, registered unemployed\, and disabled peopl
	e. Please use the code TFB10OFF during checkout. You must have proof to us
	e this discount.\n\n\n\n	Course dates:\n\n	Mon 29th Oct\n\n	Mon 5th Nov\n\
	n	Mon 12th Nov\n\n	Mon 19th Nov\n\n	Mon 26th Nov\n\n	Mon 3rd Dec\n\n	Mon 1
	0th Dec\n\n	Mon 17th Dec\n\n\n\n	Sign up here: thefilmbunch.com/courses/i
	ntroduction-to-bsl-oct-2018\n
DTSTART:20181029T183000Z
RRULE:FREQ=WEEKLY;INTERVAL=1;UNTIL=20181217T000000;BYDAY=MO
END:VEVENT
END:VCALENDAR
