BEGIN:VCALENDAR
VERSION:2.0
PRODID:-//InvisionCommunity Events 4.7.23//EN
METHOD:PUBLISH
CALSCALE:GREGORIAN
REFRESH-INTERVAL:PT15M
X-PUBLISHED-TTL:PT15M
X-WR-CALNAME:British Sign Language Calendar
NAME:British Sign Language Calendar
BEGIN:VTIMEZONE
TZID:Europe/London
TZURL:http://tzurl.org/zoneinfo/Europe/London
X-LIC-LOCATION:Europe/London
BEGIN:DAYLIGHT
TZOFFSETFROM:+0000
TZOFFSETTO:+0100
TZNAME:BST
DTSTART:20180325T020000Z
RRULE:FREQ=YEARLY;BYMONTH=3;BYDAY=-1SU
END:DAYLIGHT
BEGIN:STANDARD
TZOFFSETFROM:+0100
TZOFFSETTO:+0000
TZNAME:GMT
DTSTART:20181028T020000Z
RRULE:FREQ=YEARLY;BYMONTH=10;BYDAY=-1SU
END:STANDARD
END:VTIMEZONE
BEGIN:VEVENT
SUMMARY:Redefining Juliet: BSL-interpreted performance at the Barbic
	an
DTSTAMP:20181120T180129Z
SEQUENCE:0
UID:22-2-9094ca72c6411a1c90a0f1ce84a01a67@www.signlanguageforum.com
ORGANIZER;CN="Lani Strange":hello@signlanguageforum.com
DESCRIPTION:\n\n	A frank and gutsy retelling of a classic in which three
	 actors share the role of Juliet\, each owning Shakespeare’s heroine for
	 themselves while challenging universal ideas of beauty and sexuality:\nht
	tps://bit.ly/2zkNNi2\n\n\n\n	Weaving text from Romeo and Juliet with hard-
	hitting stories from women whose femininity and authenticity have been que
	stioned by society\, Redefining Juliet celebrates difference to prove that
	 anyone can play the iconic part.\n\n\n\n	Appearing regularly on British t
	elevision\, Storme Toolis has cerebral palsy and uses a wheelchair. Inspir
	ed by a desire to portray Juliet herself\, she collaborates with other per
	formers who have felt like outsiders to bring multiple dimensions to the f
	amed romantic lead. Featuring key scenes from the play\, interspersed with
	 resonant details of the actors’ personal lives\, this is an empowering 
	production\, both joyous and sad\, shot through with wit.\n\n\n\n	Duration
	: 1 hour\n\n	Age guidance: 14+\n\n\n\n	Thu 29 Nov\, 7.45pm\n\n	BSL-interpr
	eted and post-show talk\n\n\n\n	Fri 30 Nov\, 7:45pm\n\n	BSL-interpreted an
	d audio-described\n\n\n\n	 \n\n
DTSTART:20181129T194500Z
DTEND:20181130T000000Z
END:VEVENT
END:VCALENDAR
