BEGIN:VCALENDAR
VERSION:2.0
PRODID:-//InvisionCommunity Events 4.7.23//EN
METHOD:PUBLISH
CALSCALE:GREGORIAN
REFRESH-INTERVAL:PT15M
X-PUBLISHED-TTL:PT15M
X-WR-CALNAME:British Sign Language Calendar
NAME:British Sign Language Calendar
BEGIN:VTIMEZONE
TZID:Europe/London
TZURL:http://tzurl.org/zoneinfo/Europe/London
X-LIC-LOCATION:Europe/London
BEGIN:DAYLIGHT
TZOFFSETFROM:+0000
TZOFFSETTO:+0100
TZNAME:BST
DTSTART:20170326T020000Z
RRULE:FREQ=YEARLY;BYMONTH=3;BYDAY=-1SU
END:DAYLIGHT
BEGIN:STANDARD
TZOFFSETFROM:+0100
TZOFFSETTO:+0000
TZNAME:GMT
DTSTART:20171029T020000Z
RRULE:FREQ=YEARLY;BYMONTH=10;BYDAY=-1SU
END:STANDARD
END:VTIMEZONE
BEGIN:VEVENT
SUMMARY:BSL tours at Tower Bridge
DTSTAMP:20170717T110514Z
SEQUENCE:0
UID:9-2-9094ca72c6411a1c90a0f1ce84a01a67@www.signlanguageforum.com
ORGANIZER;CN="Tower Bridge Exhibition":hello@signlanguagefor
	um.com
DESCRIPTION:\n\n	Looking for an extra special tour with that exclusive f
	eel? Then book on to one of our British Sign Language Guided tours. \n\
	n\n\n	Led by one of our accredited Welcome Hosts and a qualified British 
	Sign Language interpreter from the Royal Association for Deaf People\, y
	ou can experience all the Exhibition has to offer and more. Be surprised 
	and delighted by facts and anecdotes as you are guided through the Bridge
	's Towers\, high-level Walkways and the Victorian Engine Rooms which hous
	e the original Victorian machinery. Combining little known facts with fas
	cinating stories\, a British Sign Language Guided Tour will ensure that 
	everyone leaves enriched by the history of the most famous bridge in the w
	orld. \n\n\n\n\n	Date: Last Saturday of each month\nTime: 11:00\nAverag
	e duration: 1 hour and 30 minutes\nPrice: £4.00 per person plus standar
	d admission price\n\n\n\n\n	Family ticket options for this tour are also 
	available. Contact our bookings department for more information on +44 (
	0) 207 407 9191 or email bookings@towerbridge.org.uk.\n\n\n\n	It is advis
	ed that British Sign Language tours are pre-booked and paid in advance. \
	n\n
DTSTART:20170930T100000Z
DTEND:20170930T113000Z
END:VEVENT
END:VCALENDAR
